BEGIN:VCALENDAR
METHOD:PUBLISH
PRODID:-//Weblication CMS
VERSION:2.0
BEGIN:VEVENT
SUMMARY:Geschwistergruppe
DTSTART:20230607T170000
DTEND:20230607T183000
DESCRIPTION:Das Mövennest in Kooperation mit der Lebenshilfe Dinslaken bietet eine neue Gruppe für Geschwister schwererkrankter Kinder an. Das Ziel der Gruppe ist eine Entlastung der gesamten Familie.
LOCATION:
UID:https://www.ase-lh-dinslaken.de/de/veranstaltungen/termine/Geschwistergruppe-startet-5.php
URL:https://www.ase-lh-dinslaken.de/de/veranstaltungen/termine/Geschwistergruppe-startet-5.php
END:VEVENT
END:VCALENDAR